BEGIN:VCALENDAR
VERSION:2.0
PRODID:-//Plone.org//NONSGML plone.app.event//EN
X-WR-TIMEZONE:America/Toronto
BEGIN:VEVENT
SUMMARY:Jeff Snyder: Designing and composing for unusual electronic instru
 ments
DTSTART;TZID=America/Toronto;VALUE=DATE-TIME:20250203T180000
DTEND;TZID=America/Toronto;VALUE=DATE-TIME:20250203T190000
DTSTAMP;VALUE=DATE-TIME:20260421T133959Z
UID:bfcbb4ebb78644708553f6e1aa021d55@project_zeoclients
CONTACT:info[AT]cirmmt[DOT]org\, info[AT]cirmmt[DOT]org
CREATED;VALUE=DATE-TIME:20221129T194539Z
LAST-MODIFIED;VALUE=DATE-TIME:20250127T164149Z
LOCATION:Tanna Schulich Hall\, Elizabeth Wirth Music Building\, 527 Sherbr
 ooke O.
URL:https://www.cirmmt.org/en/events/distinguished-lectures/03-feb-2025
END:VEVENT
BEGIN:VTIMEZONE
TZID:America/Toronto
X-LIC-LOCATION:America/Toronto
BEGIN:STANDARD
DTSTART;VALUE=DATE-TIME:20241103T010000
TZNAME:EST
TZOFFSETFROM:-0400
TZOFFSETTO:-0500
END:STANDARD
END:VTIMEZONE
END:VCALENDAR
