BEGIN:VCALENDAR
VERSION:2.0
PRODID:-//Plone.org//NONSGML plone.app.event//EN
X-WR-TIMEZONE:America/Toronto
BEGIN:VEVENT
SUMMARY:Henkjan Honing\, Music Cognition Group\, University of Amsterdam\,
  Netherlands: What makes us musical animals
DTSTART;TZID=America/Montreal;VALUE=DATE-TIME:20161020T163000
DTEND;TZID=America/Montreal;VALUE=DATE-TIME:20161020T180000
DTSTAMP;VALUE=DATE-TIME:20260421T192938Z
UID:e53b94f76f279e2b2a30ed82842589e0@project_zeoclients
CREATED;VALUE=DATE-TIME:20210321T215131Z
LAST-MODIFIED;VALUE=DATE-TIME:20210321T215131Z
LOCATION:Tanna Schulich Hall\, Elizabeth Wirth Music Building\, 527 Sherbr
 ooke Street West.
URL:https://www.cirmmt.org/en/events/distinguished-lectures/Henkjan_Honing
END:VEVENT
BEGIN:VTIMEZONE
TZID:America/Montreal
X-LIC-LOCATION:America/Montreal
BEGIN:DAYLIGHT
DTSTART;VALUE=DATE-TIME:20160313T030000
TZNAME:EDT
TZOFFSETFROM:-0500
TZOFFSETTO:-0400
END:DAYLIGHT
END:VTIMEZONE
END:VCALENDAR
