BEGIN:VCALENDAR
VERSION:2.0
PRODID:-//Plone.org//NONSGML plone.app.event//EN
X-WR-TIMEZONE:America/Toronto
BEGIN:VEVENT
SUMMARY:[ONLINE] Kofi Agawu: "Tonality as a colonizing force in African mu
 sic"
DTSTART;TZID=America/Toronto;VALUE=DATE-TIME:20210311T170000
DTEND;TZID=America/Toronto;VALUE=DATE-TIME:20210311T190000
DTSTAMP;VALUE=DATE-TIME:20260422T072954Z
UID:ee3ed12c11c547138246ae2a39bb61bc@project_zeoclients
CREATED;VALUE=DATE-TIME:20210321T215132Z
DESCRIPTION:The rebroadcast of a Distinguished Lecture by Prof. Kofi Agawu
  from Princeton University (USA) followed by an online live discussion wit
 h Prof. Fabrice Marandola as the respondent.
LAST-MODIFIED;VALUE=DATE-TIME:20210419T175340Z
LOCATION:Online
URL:https://www.cirmmt.org/en/events/distinguished-lectures/Kofi_Agawu_202
 0-21
END:VEVENT
BEGIN:VTIMEZONE
TZID:America/Toronto
X-LIC-LOCATION:America/Toronto
BEGIN:STANDARD
DTSTART;VALUE=DATE-TIME:20201101T010000
TZNAME:EST
TZOFFSETFROM:-0400
TZOFFSETTO:-0500
END:STANDARD
END:VTIMEZONE
END:VCALENDAR
