BEGIN:VCALENDAR
VERSION:2.0
PRODID:-//Plone.org//NONSGML plone.app.event//EN
X-WR-TIMEZONE:America/Toronto
BEGIN:VEVENT
SUMMARY:Laetitia Sonami\, sound artist and performer: Your presence is req
 uired - performance\, control\, and magnetism
DTSTART;TZID=America/Montreal;VALUE=DATE-TIME:20170308T163000
DTEND;TZID=America/Montreal;VALUE=DATE-TIME:20170308T180000
DTSTAMP;VALUE=DATE-TIME:20260424T150228Z
UID:5e6d54e800c9115f927d2172e53411f7@project_zeoclients
CREATED;VALUE=DATE-TIME:20210321T215132Z
LAST-MODIFIED;VALUE=DATE-TIME:20210321T215132Z
LOCATION:Tanna Schulich Hall\, Elizabeth Wirth Music Building\, 527 Sherbr
 ooke Street West.
URL:https://www.cirmmt.org/en/events/distinguished-lectures/Laetitia_Sonam
 i
END:VEVENT
BEGIN:VTIMEZONE
TZID:America/Montreal
X-LIC-LOCATION:America/Montreal
BEGIN:STANDARD
DTSTART;VALUE=DATE-TIME:20161106T010000
TZNAME:EST
TZOFFSETFROM:-0400
TZOFFSETTO:-0500
END:STANDARD
END:VTIMEZONE
END:VCALENDAR
