BEGIN:VCALENDAR
VERSION:2.0
PRODID:-//Plone.org//NONSGML plone.app.event//EN
X-WR-TIMEZONE:America/Toronto
BEGIN:VEVENT
SUMMARY:CANCELLED : Agnieszka Roginska: Immersive Sound Expands our Realit
 y: Past\, Present and Future
DTSTART;TZID=America/Toronto;VALUE=DATE-TIME:20240318T180000
DTEND;TZID=America/Toronto;VALUE=DATE-TIME:20240318T190000
DTSTAMP;VALUE=DATE-TIME:20260424T012957Z
UID:5b6fa6a7b548448d83d2740fc1bb4c27@project_zeoclients
CONTACT:info[AT]cirmmt[DOT]org\, info[AT]cirmmt[DOT]org
CREATED;VALUE=DATE-TIME:20221129T194539Z
DESCRIPTION:CANCELLED : A Distinguished Lecture from Agnieszka Roginska\, 
 Associate Professor of Music Technology at NYU Steinhardt\, USA.
LAST-MODIFIED;VALUE=DATE-TIME:20240219T162117Z
LOCATION:Tanna Schulich Hall\, 527 Sherbrooke W.
URL:https://www.cirmmt.org/en/events/distinguished-lectures/agnieszka-rogi
 nska
END:VEVENT
BEGIN:VTIMEZONE
TZID:America/Toronto
X-LIC-LOCATION:America/Toronto
BEGIN:DAYLIGHT
DTSTART;VALUE=DATE-TIME:20240310T030000
TZNAME:EDT
TZOFFSETFROM:-0500
TZOFFSETTO:-0400
END:DAYLIGHT
END:VTIMEZONE
END:VCALENDAR
