BEGIN:VCALENDAR
VERSION:2.0
PRODID:-//Plone.org//NONSGML plone.app.event//EN
X-WR-TIMEZONE:America/Toronto
BEGIN:VEVENT
SUMMARY:Christian Hugonnet: The "Sound Quality" label project
DTSTART;TZID=America/Toronto;VALUE=DATE-TIME:20230320T170000
DTEND;TZID=America/Toronto;VALUE=DATE-TIME:20230320T180000
DTSTAMP;VALUE=DATE-TIME:20260421T192937Z
UID:662d468170314b1198f17b59f0f3011a@project_zeoclients
CONTACT:info [AT] cirmmt.org\, https://lasemainedusoncanada.ca/
CREATED;VALUE=DATE-TIME:20230220T153126Z
DESCRIPTION:A distinguished lecture from Christian Hugonnet\, president an
 d founder of la Semaine du Son
LAST-MODIFIED;VALUE=DATE-TIME:20230307T135938Z
LOCATION:Tanna Schulich Hall\, 527 Sherbrooke St W\, Montreal\, Quebec H3A
  1E3
URL:https://www.cirmmt.org/en/events/distinguished-lectures/christian-hugo
 nnet
END:VEVENT
BEGIN:VTIMEZONE
TZID:America/Toronto
X-LIC-LOCATION:America/Toronto
BEGIN:DAYLIGHT
DTSTART;VALUE=DATE-TIME:20230312T030000
TZNAME:EDT
TZOFFSETFROM:-0500
TZOFFSETTO:-0400
END:DAYLIGHT
END:VTIMEZONE
END:VCALENDAR
