BEGIN:VCALENDAR
VERSION:2.0
PRODID:-//Plone.org//NONSGML plone.app.event//EN
X-WR-TIMEZONE:America/Toronto
BEGIN:VEVENT
SUMMARY:Janet Cardiff: Play and Illusion and other Fun Stuff
DTSTART;TZID=America/Toronto;VALUE=DATE-TIME:20240422T180000
DTEND;TZID=America/Toronto;VALUE=DATE-TIME:20240422T190000
DTSTAMP;VALUE=DATE-TIME:20260422T124916Z
UID:9b687dff6e8945688234a556e038e861@project_zeoclients
CONTACT:info[AT]cirmmt.org\, info@cirmmt.org
CREATED;VALUE=DATE-TIME:20221129T194539Z
DESCRIPTION:A Distinguished Lecture from Janet Cardiff\, Canadian artist f
 rom British Columbia.
LAST-MODIFIED;VALUE=DATE-TIME:20240325T184910Z
LOCATION:MMR (-2 floor)\, 527 Sherbrooke St W\, Montreal\, Quebec H3A 1E3
URL:https://www.cirmmt.org/en/events/distinguished-lectures/janet-cardiff
END:VEVENT
BEGIN:VTIMEZONE
TZID:America/Toronto
X-LIC-LOCATION:America/Toronto
BEGIN:DAYLIGHT
DTSTART;VALUE=DATE-TIME:20240310T030000
TZNAME:EDT
TZOFFSETFROM:-0500
TZOFFSETTO:-0400
END:DAYLIGHT
END:VTIMEZONE
END:VCALENDAR
