BEGIN:VCALENDAR
VERSION:2.0
PRODID:-//Plone.org//NONSGML plone.app.event//EN
X-WR-TIMEZONE:America/Toronto
BEGIN:VEVENT
SUMMARY:SPECIAL EVENT: Joel Chadabe\, NYU Steinhardt\, USA: Music as emerg
 ence
DTSTART;TZID=America/Montreal;VALUE=DATE-TIME:20190502T170000
DTEND;TZID=America/Montreal;VALUE=DATE-TIME:20190502T183000
DTSTAMP;VALUE=DATE-TIME:20260423T094113Z
UID:46c99def4318ebfbad1716a265983291@project_zeoclients
CREATED;VALUE=DATE-TIME:20210321T215153Z
DESCRIPTION:In order to celebrate his outstanding career as a music techno
 logy researcher\, entrepreneur and educator\, as well as his significant c
 ontributions to CIRMMT over the years\, Joel Chadabe will be presented wit
 h an honorary lifetime membership of CIRMMT at this event. 
LAST-MODIFIED;VALUE=DATE-TIME:20210321T215153Z
LOCATION:Wirth Opera Studio (level minus 2)\, Elizabeth Wirth Music Buildi
 ng\, McGill University\, 527 Sherbrooke St. West
URL:https://www.cirmmt.org/en/events/distinguished-lectures/joel-chadabe-l
 ifetime
END:VEVENT
BEGIN:VTIMEZONE
TZID:America/Montreal
X-LIC-LOCATION:America/Montreal
BEGIN:DAYLIGHT
DTSTART;VALUE=DATE-TIME:20190310T030000
TZNAME:EDT
TZOFFSETFROM:-0500
TZOFFSETTO:-0400
END:DAYLIGHT
END:VTIMEZONE
END:VCALENDAR
