BEGIN:VCALENDAR
VERSION:2.0
PRODID:-//Plone.org//NONSGML plone.app.event//EN
X-WR-TIMEZONE:America/Toronto
BEGIN:VEVENT
SUMMARY:Matthew Smith - Composing for an unwitting conductor: the sound of
  videogames
DTSTART;TZID=America/Toronto;VALUE=DATE-TIME:20230206T170000
DTEND;TZID=America/Toronto;VALUE=DATE-TIME:20230206T180000
DTSTAMP;VALUE=DATE-TIME:20260421T150658Z
UID:3e522dfcfdc14222b07841627bce3a95@project_zeoclients
CONTACT:info[AT]cirmmt.org
CREATED;VALUE=DATE-TIME:20221129T194539Z
DESCRIPTION:A Distinguished Lecture from Matthew Smith\, a Montreal-based 
 videogame audio director
LAST-MODIFIED;VALUE=DATE-TIME:20230130T171425Z
LOCATION:Tanna Schulich Hall\, 527 Sherbrooke W.
URL:https://www.cirmmt.org/en/events/distinguished-lectures/matthew-smith
END:VEVENT
BEGIN:VTIMEZONE
TZID:America/Toronto
X-LIC-LOCATION:America/Toronto
BEGIN:STANDARD
DTSTART;VALUE=DATE-TIME:20221106T010000
TZNAME:EST
TZOFFSETFROM:-0400
TZOFFSETTO:-0500
END:STANDARD
END:VTIMEZONE
END:VCALENDAR
