BEGIN:VCALENDAR
VERSION:2.0
PRODID:-//Plone.org//NONSGML plone.app.event//EN
X-WR-TIMEZONE:America/Toronto
BEGIN:VEVENT
SUMMARY:Nadine Schütz — Composing (with) places: At the threshold betwe
 en sonic landscape and spatial music
DTSTART;TZID=America/Toronto;VALUE=DATE-TIME:20251201T180000
DTEND;TZID=America/Toronto;VALUE=DATE-TIME:20251201T190000
DTSTAMP;VALUE=DATE-TIME:20260421T081509Z
UID:a8b5c1e60f88440b815dcdc0ecf3f2cf@project_zeoclients
CONTACT:info [AT] cirmmt (DOT] org
CREATED;VALUE=DATE-TIME:20251015T143036Z
DESCRIPTION:A Distinguished Lecture from Nadine Schütz\, associate artist
  at IRCAM–STMS (Centre Pompidou\, Paris) and lecturer at the ETH Zurich 
 Department of Architecture
LAST-MODIFIED;VALUE=DATE-TIME:20251016T140726Z
LOCATION:Multimedia Room MMR (-2 floor)\, Elizabeth Wirth Music Building\,
  527 Sherbrooke O
URL:https://www.cirmmt.org/en/events/distinguished-lectures/nadine-schutz
END:VEVENT
BEGIN:VTIMEZONE
TZID:America/Toronto
X-LIC-LOCATION:America/Toronto
BEGIN:STANDARD
DTSTART;VALUE=DATE-TIME:20251102T010000
TZNAME:EST
TZOFFSETFROM:-0400
TZOFFSETTO:-0500
END:STANDARD
END:VTIMEZONE
END:VCALENDAR
