BEGIN:VCALENDAR
VERSION:2.0
PRODID:-//Plone.org//NONSGML plone.app.event//EN
X-WR-TIMEZONE:America/Toronto
BEGIN:VEVENT
SUMMARY:Pamela Z: Happy Accidents and Blurred Boundaries
DTSTART;TZID=America/Toronto;VALUE=DATE-TIME:20230123T170000
DTEND;TZID=America/Toronto;VALUE=DATE-TIME:20230123T180000
DTSTAMP;VALUE=DATE-TIME:20260421T150851Z
UID:c005480b61da41c0bdc129a0a82633d2@project_zeoclients
CONTACT:info[AT]cirmmt.org
CREATED;VALUE=DATE-TIME:20220824T191437Z
DESCRIPTION:A distinguished lecture from Pamela Z\, composer/performer and
  media artist working with voice\, live electronic processing\, sampled so
 und\, and video (USA)
LAST-MODIFIED;VALUE=DATE-TIME:20220831T151444Z
LOCATION:Tanna Hall\, 527 Rue Sherbrooke Ouest
URL:https://www.cirmmt.org/en/events/distinguished-lectures/pamela-z
END:VEVENT
BEGIN:VTIMEZONE
TZID:America/Toronto
X-LIC-LOCATION:America/Toronto
BEGIN:STANDARD
DTSTART;VALUE=DATE-TIME:20221106T010000
TZNAME:EST
TZOFFSETFROM:-0400
TZOFFSETTO:-0500
END:STANDARD
END:VTIMEZONE
END:VCALENDAR
