BEGIN:VCALENDAR
VERSION:2.0
PRODID:-//Plone.org//NONSGML plone.app.event//EN
X-WR-TIMEZONE:America/Toronto
BEGIN:VEVENT
SUMMARY:Johan Sundberg\, Royal Institute of Technology\, Sweden: "The voic
 e as a musical instrument"
DTSTART;TZID=America/Montreal;VALUE=DATE-TIME:20090122T163000
DTEND;TZID=America/Montreal;VALUE=DATE-TIME:20090122T180000
DTSTAMP;VALUE=DATE-TIME:20260423T113256Z
UID:99f10cddf82ff99e16eb82d28546d3a9@project_zeoclients
CREATED;VALUE=DATE-TIME:20210321T215204Z
LAST-MODIFIED;VALUE=DATE-TIME:20210321T215204Z
LOCATION:Strathcona Music Building\, 555 Sherbrooke St. West\, Clara Licht
 enstein Recital Hall (C-209) 
URL:https://www.cirmmt.org/en/events/distinguished-lectures/sundberg
END:VEVENT
BEGIN:VTIMEZONE
TZID:America/Montreal
X-LIC-LOCATION:America/Montreal
BEGIN:STANDARD
DTSTART;VALUE=DATE-TIME:20081102T010000
TZNAME:EST
TZOFFSETFROM:-0400
TZOFFSETTO:-0500
END:STANDARD
END:VTIMEZONE
END:VCALENDAR
