BEGIN:VCALENDAR
VERSION:2.0
PRODID:-//Plone.org//NONSGML plone.app.event//EN
X-WR-TIMEZONE:America/Toronto
BEGIN:VEVENT
SUMMARY:Floyd Toole\, consultant to Harman International\, USA: Sound repr
 oduction – art and science/opinions and facts
DTSTART;TZID=America/Montreal;VALUE=DATE-TIME:20150416T163000
DTEND;TZID=America/Montreal;VALUE=DATE-TIME:20150416T180000
DTSTAMP;VALUE=DATE-TIME:20260424T162005Z
UID:495db8359e0fa1bc58c2194112c6eafd@project_zeoclients
CREATED;VALUE=DATE-TIME:20210321T215206Z
LAST-MODIFIED;VALUE=DATE-TIME:20210321T215206Z
LOCATION:Tanna Schulich Hall\, New Music Building\, 527 Sherbrooke Street 
 West.
URL:https://www.cirmmt.org/en/events/distinguished-lectures/toole
END:VEVENT
BEGIN:VTIMEZONE
TZID:America/Montreal
X-LIC-LOCATION:America/Montreal
BEGIN:DAYLIGHT
DTSTART;VALUE=DATE-TIME:20150308T030000
TZNAME:EDT
TZOFFSETFROM:-0500
TZOFFSETTO:-0400
END:DAYLIGHT
END:VTIMEZONE
END:VCALENDAR
