BEGIN:VCALENDAR
VERSION:2.0
PRODID:-//Plone.org//NONSGML plone.app.event//EN
X-WR-TIMEZONE:America/Toronto
BEGIN:VEVENT
SUMMARY:CIRMMT-OICRM-BRAMS student colloquium (COBS) 2025 – Crossed reso
 nances: Weaving connections between music\, research\, technology\, and so
 ciety
DTSTART;TZID=America/Toronto;VALUE=DATE-TIME:20250529T090000
DTEND;TZID=America/Toronto;VALUE=DATE-TIME:20250529T200000
DTSTAMP;VALUE=DATE-TIME:20260421T121536Z
UID:d308cada39724b3ba8951bd25253b034@project_zeoclients
CONTACT:COBS Organizational Committee\, ccobs.cobs [AT] gmail.com\, https:
 //www.ccob-cobs.org
CREATED;VALUE=DATE-TIME:20240307T171907Z
DESCRIPTION:CIRMMT is hosting the 7th CIRMMT-OICRM-BRAMS student colloquiu
 m (COBS) at the Elizabeth Wirth Music Building\, McGill University
LAST-MODIFIED;VALUE=DATE-TIME:20250523T150918Z
LOCATION:Tanna Schulich Hall (enter on 2 floor) and A832 (8 floor)\, Eliza
 beth Wirth Music Building\, 527 Sherbrooke O
URL:https://www.cirmmt.org/en/events/general-assembly/cobs2025
END:VEVENT
BEGIN:VTIMEZONE
TZID:America/Toronto
X-LIC-LOCATION:America/Toronto
BEGIN:DAYLIGHT
DTSTART;VALUE=DATE-TIME:20250309T030000
TZNAME:EDT
TZOFFSETFROM:-0500
TZOFFSETTO:-0400
END:DAYLIGHT
END:VTIMEZONE
END:VCALENDAR
