BEGIN:VCALENDAR
VERSION:2.0
PRODID:-//Plone.org//NONSGML plone.app.event//EN
X-WR-TIMEZONE:America/Toronto
BEGIN:VEVENT
SUMMARY:live@CIRMMT: Instruments and electronics\, from the past\, from th
 e present\, for the future
DTSTART;TZID=America/Toronto;VALUE=DATE-TIME:20241213T193000
DTEND;TZID=America/Toronto;VALUE=DATE-TIME:20241213T210000
DTSTAMP;VALUE=DATE-TIME:20260419T083246Z
UID:b1d74e2a651a4b449c02e20d8c11e88b@project_zeoclients
CONTACT:info[AT]cirmmt[DOT]org
CREATED;VALUE=DATE-TIME:20240605T134412Z
DESCRIPTION:live@CIRMMT presents a concert featuring works by composers Yu
 lin Yan\, Estelle Schorpp\, Hannah Barnes\, and Luis Naón
LAST-MODIFIED;VALUE=DATE-TIME:20241213T204711Z
LOCATION:Multimedia Room MMR (-2 floor)\, Elizabeth Wirth Music Building\,
  527 Sherbrooke O.
URL:https://www.cirmmt.org/en/events/live-cirmmt/13-dec-2024
END:VEVENT
BEGIN:VTIMEZONE
TZID:America/Toronto
X-LIC-LOCATION:America/Toronto
BEGIN:STANDARD
DTSTART;VALUE=DATE-TIME:20241103T010000
TZNAME:EST
TZOFFSETFROM:-0400
TZOFFSETTO:-0500
END:STANDARD
END:VTIMEZONE
END:VCALENDAR
