BEGIN:VCALENDAR
VERSION:2.0
PRODID:-//Plone.org//NONSGML plone.app.event//EN
X-WR-TIMEZONE:America/Toronto
BEGIN:VEVENT
SUMMARY:Displaced listening: Artistic perspectives on sound in motion
DTSTART;TZID=America/Toronto;VALUE=DATE-TIME:20260430T163000
DTEND;TZID=America/Toronto;VALUE=DATE-TIME:20260430T173000
DTSTAMP;VALUE=DATE-TIME:20260422T073724Z
UID:9783926ef9c0461586cc47386be9de9d@project_zeoclients
CONTACT:info [AT] cirmmt (DOT] org
CREATED;VALUE=DATE-TIME:20251218T183722Z
DESCRIPTION:A seminar by Stijn Dickel of aifoon.
LAST-MODIFIED;VALUE=DATE-TIME:20260401T140002Z
LOCATION:A832 (8 floor)\, Elizabeth Wirth Music Building\, 527 Sherbrooke 
 O
URL:https://www.cirmmt.org/en/events/seminars/30-apr-2026-aifoon
END:VEVENT
BEGIN:VTIMEZONE
TZID:America/Toronto
X-LIC-LOCATION:America/Toronto
BEGIN:DAYLIGHT
DTSTART;VALUE=DATE-TIME:20260308T030000
TZNAME:EDT
TZOFFSETFROM:-0500
TZOFFSETTO:-0400
END:DAYLIGHT
END:VTIMEZONE
END:VCALENDAR
