BEGIN:VCALENDAR
VERSION:2.0
PRODID:-//Plone.org//NONSGML plone.app.event//EN
X-WR-TIMEZONE:America/Toronto
BEGIN:VEVENT
SUMMARY:Janie Cole: Soundscapes of incarceration: Mandela\, Robben Island 
 and music as resistance in the apartheid prisons
DTSTART;TZID=America/Montreal;VALUE=DATE-TIME:20190314T103000
DTEND;TZID=America/Montreal;VALUE=DATE-TIME:20190314T113000
DTSTAMP;VALUE=DATE-TIME:20260422T174709Z
UID:2ac1d0de3a96eb12afa1498a2e1d1413@project_zeoclients
CREATED;VALUE=DATE-TIME:20210321T215344Z
DESCRIPTION:This seminar is co-organized by CIRMMT and the Schulich School
  of Music.
LAST-MODIFIED;VALUE=DATE-TIME:20210321T215344Z
LOCATION:A832\, Elizabeth Wirth Music Building\, 527 Sherbrooke St. West
URL:https://www.cirmmt.org/en/events/seminars/janiecole
END:VEVENT
BEGIN:VTIMEZONE
TZID:America/Montreal
X-LIC-LOCATION:America/Montreal
BEGIN:DAYLIGHT
DTSTART;VALUE=DATE-TIME:20190310T030000
TZNAME:EDT
TZOFFSETFROM:-0500
TZOFFSETTO:-0400
END:DAYLIGHT
END:VTIMEZONE
END:VCALENDAR
