BEGIN:VCALENDAR
VERSION:2.0
PRODID:-//Plone.org//NONSGML plone.app.event//EN
X-WR-TIMEZONE:America/Toronto
BEGIN:VEVENT
SUMMARY:Jean-Claude Risset: Simulacra and Illusions: Understanding Percept
 ion is Important for Computer Music 
DTSTART;TZID=America/Montreal;VALUE=DATE-TIME:20040416T160000
DTEND;TZID=America/Montreal;VALUE=DATE-TIME:20040416T180000
DTSTAMP;VALUE=DATE-TIME:20260425T183107Z
UID:67210bde4fb5a798d84e9d0704dd0129@project_zeoclients
CREATED;VALUE=DATE-TIME:20210321T215407Z
DESCRIPTION:Jean-Claude Risset is a composer and researcher at the Centre 
 National de la Recherche Scientifique (CNRS)\, France.
LAST-MODIFIED;VALUE=DATE-TIME:20210321T215407Z
LOCATION:Strathcona Music Building\, 555 Sherbrooke St. West\, Clara Licht
 enstein Recital Hall (C-209) 
URL:https://www.cirmmt.org/en/events/seminars/risset
END:VEVENT
BEGIN:VTIMEZONE
TZID:America/Montreal
X-LIC-LOCATION:America/Montreal
BEGIN:DAYLIGHT
DTSTART;VALUE=DATE-TIME:20040404T030000
TZNAME:EDT
TZOFFSETFROM:-0500
TZOFFSETTO:-0400
END:DAYLIGHT
END:VTIMEZONE
END:VCALENDAR
