BEGIN:VCALENDAR
VERSION:2.0
PRODID:-//Plone.org//NONSGML plone.app.event//EN
X-WR-TIMEZONE:America/Toronto
BEGIN:VEVENT
SUMMARY:ACTOR Speaker Series: Afrological Perpectives on Timbre & Orchestr
 ation - Blackface\, Black Sounds\, and Black String band Music
DTSTART;TZID=America/Toronto;VALUE=DATE-TIME:20231012T120000
DTEND;TZID=America/Toronto;VALUE=DATE-TIME:20231012T131500
DTSTAMP;VALUE=DATE-TIME:20260422T054523Z
UID:0068baabb8384443af5780bfc9840010@project_zeoclients
CONTACT:ACTOR Project\, actor-project.music@mcgill.ca\, https://www.actorp
 roject.org/events-calendar/blackface-black-sounds-and-black-string-band-mu
 sic
CREATED;VALUE=DATE-TIME:20230922T191117Z
DESCRIPTION:This talk will consider how the timbre of string band music ha
 s been racialized through the legacy of blackface\, while recovering some 
 of the performed histories (past and present) of Black string band musicia
 ns.
LAST-MODIFIED;VALUE=DATE-TIME:20230922T193129Z
LOCATION:Online Event
URL:https://www.cirmmt.org/en/events/special/actor-speaker-series-afrologi
 cal-perpectives-on-timbre-and-orchestration-oct12
END:VEVENT
BEGIN:VTIMEZONE
TZID:America/Toronto
X-LIC-LOCATION:America/Toronto
BEGIN:DAYLIGHT
DTSTART;VALUE=DATE-TIME:20230312T030000
TZNAME:EDT
TZOFFSETFROM:-0500
TZOFFSETTO:-0400
END:DAYLIGHT
END:VTIMEZONE
END:VCALENDAR
