BEGIN:VCALENDAR
VERSION:2.0
PRODID:-//Plone.org//NONSGML plone.app.event//EN
X-WR-TIMEZONE:America/Toronto
BEGIN:VEVENT
SUMMARY:CIRMMT-ACTOR Symposium on Orchestration Research
DTSTART;TZID=America/Toronto;VALUE=DATE-TIME:20211117T163000
DTEND;TZID=America/Toronto;VALUE=DATE-TIME:20211118T183000
DTSTAMP;VALUE=DATE-TIME:20260419T084248Z
UID:3c60f50ce48b45f6a253b4e4b31ade78@project_zeoclients
CONTACT:Andre Oliviera\, actor-project.music@mcgill.ca\, https://www.actor
 project.org
CREATED;VALUE=DATE-TIME:20210914T173232Z
DESCRIPTION:A partnership event between CIRMMT and ACTOR (Analysis\, Creat
 ion & Teaching of Orchestration)
LAST-MODIFIED;VALUE=DATE-TIME:20211012T150215Z
LOCATION:A-832\, Elizabeth Wirth Music Building\, 527 Rue Sherbrooke Ouest
URL:https://www.cirmmt.org/en/events/special/actor-symposium-2
END:VEVENT
BEGIN:VTIMEZONE
TZID:America/Toronto
X-LIC-LOCATION:America/Toronto
BEGIN:STANDARD
DTSTART;VALUE=DATE-TIME:20211107T010000
TZNAME:EST
TZOFFSETFROM:-0400
TZOFFSETTO:-0500
END:STANDARD
END:VTIMEZONE
END:VCALENDAR
