BEGIN:VCALENDAR
VERSION:2.0
PRODID:-//Plone.org//NONSGML plone.app.event//EN
X-WR-TIMEZONE:America/Toronto
BEGIN:VEVENT
SUMMARY:Talent\, Research and Job Fair at CIRMMT
DTSTART;TZID=America/Toronto;VALUE=DATE-TIME:20230413T090000
DTEND;TZID=America/Toronto;VALUE=DATE-TIME:20230413T150000
DTSTAMP;VALUE=DATE-TIME:20260419T094118Z
UID:e46cd6a2e7944aaab1ad18e0d42ce37b@project_zeoclients
CONTACT:info [AT] cirmmt [DOT] org
CREATED;VALUE=DATE-TIME:20230227T151356Z
DESCRIPTION:When students\, academics and industrials all meet
LAST-MODIFIED;VALUE=DATE-TIME:20230411T152820Z
LOCATION:Wirth Lobby\, 527 Sherbrooke O.
URL:https://www.cirmmt.org/en/events/special/jobfair
END:VEVENT
BEGIN:VTIMEZONE
TZID:America/Toronto
X-LIC-LOCATION:America/Toronto
BEGIN:DAYLIGHT
DTSTART;VALUE=DATE-TIME:20230312T030000
TZNAME:EDT
TZOFFSETFROM:-0500
TZOFFSETTO:-0400
END:DAYLIGHT
END:VTIMEZONE
END:VCALENDAR
