BEGIN:VCALENDAR
VERSION:2.0
PRODID:-//Plone.org//NONSGML plone.app.event//EN
X-WR-TIMEZONE:America/Toronto
BEGIN:VEVENT
SUMMARY:Rythmopolis Conference
DTSTART;TZID=America/Montreal;VALUE=DATE-TIME:20180908T093000
DTEND;TZID=America/Montreal;VALUE=DATE-TIME:20180908T173000
DTSTAMP;VALUE=DATE-TIME:20260419T074717Z
UID:3419e5edc0c54f9dbacef42a7192b0ef@project_zeoclients
CREATED;VALUE=DATE-TIME:20210321T215439Z
DESCRIPTION:A one-day conference on the concept of public space in musical
  works.
LAST-MODIFIED;VALUE=DATE-TIME:20210321T215440Z
LOCATION:Gesù Amphitheatre - 1200 Rue de Bleury\, Montreal
URL:https://www.cirmmt.org/en/events/special/rhythm_conference
END:VEVENT
BEGIN:VTIMEZONE
TZID:America/Montreal
X-LIC-LOCATION:America/Montreal
BEGIN:DAYLIGHT
DTSTART;VALUE=DATE-TIME:20180311T030000
TZNAME:EDT
TZOFFSETFROM:-0500
TZOFFSETTO:-0400
END:DAYLIGHT
END:VTIMEZONE
END:VCALENDAR
