BEGIN:VCALENDAR
VERSION:2.0
PRODID:-//Plone.org//NONSGML plone.app.event//EN
X-WR-TIMEZONE:America/Toronto
BEGIN:VEVENT
SUMMARY:Tech-Enhanced Music Education Symposium (TEMES)
DTSTART;TZID=America/Toronto;VALUE=DATE-TIME:20240509T130000
DTEND;TZID=America/Toronto;VALUE=DATE-TIME:20240509T170000
DTSTAMP;VALUE=DATE-TIME:20260423T120108Z
UID:6d3f1ff3631a46d99e1f3f89f2d44d5e@project_zeoclients
CONTACT:CIRMMT Student Representatives\, alberto.acquilino@mail.mcgill.ca 
 \,  theodora.nestorova@mail.mcgill.ca
CREATED;VALUE=DATE-TIME:20240130T182608Z
DESCRIPTION:The McGill Graduate and Postdoctoral Studies (GPS) in collabor
 ation with the Centre for Interdisciplinary Research in Music Media and Te
 chnology is pleased to announce the Tech-Enhanced Music Education Symposi
 um (TEMES) to be held in May 9th\, 2024 in Room A-832 of McGill Universit
 y’s Schulich School of Music in Montréal\, Canada.
LAST-MODIFIED;VALUE=DATE-TIME:20240502T193144Z
LOCATION:A-832\, 8th floor\, Elizabeth Wirth Music Building\, 527 Sherbroo
 ke O.
URL:https://www.cirmmt.org/en/events/special/temes_may-9
END:VEVENT
BEGIN:VTIMEZONE
TZID:America/Toronto
X-LIC-LOCATION:America/Toronto
BEGIN:DAYLIGHT
DTSTART;VALUE=DATE-TIME:20240310T030000
TZNAME:EDT
TZOFFSETFROM:-0500
TZOFFSETTO:-0400
END:DAYLIGHT
END:VTIMEZONE
END:VCALENDAR
