BEGIN:VCALENDAR
VERSION:2.0
PRODID:-//Plone.org//NONSGML plone.app.event//EN
X-WR-TIMEZONE:America/Toronto
BEGIN:VEVENT
SUMMARY:The Colloquial Colloquium - Meeting #10
DTSTART;TZID=America/Toronto;VALUE=DATE-TIME:20200128T170000
DTEND;TZID=America/Toronto;VALUE=DATE-TIME:20200128T190000
DTSTAMP;VALUE=DATE-TIME:20260420T213416Z
UID:e3298218d946c38548a247f54ee79070@project_zeoclients
CREATED;VALUE=DATE-TIME:20210321T215448Z
DESCRIPTION:The tenth meeting of CIRMMT's new series — The Colloquial Co
 lloquium — dedicated to help students through open discussions\, feedbac
 k\, troubleshooting\, and community building.
LAST-MODIFIED;VALUE=DATE-TIME:20210420T183800Z
LOCATION:A832\, Elizabeth Wirth Music Building\, 527 Sherbrooke St W
URL:https://www.cirmmt.org/en/events/student-colloquia/colloquial-colloqui
 a/coco-10
END:VEVENT
BEGIN:VTIMEZONE
TZID:America/Toronto
X-LIC-LOCATION:America/Toronto
BEGIN:STANDARD
DTSTART;VALUE=DATE-TIME:20191103T010000
TZNAME:EST
TZOFFSETFROM:-0400
TZOFFSETTO:-0500
END:STANDARD
END:VTIMEZONE
END:VCALENDAR
