BEGIN:VCALENDAR
VERSION:2.0
PRODID:-//Plone.org//NONSGML plone.app.event//EN
X-WR-TIMEZONE:America/Toronto
BEGIN:VEVENT
SUMMARY:[ONLINE] The Colloquial Colloquium - Meeting #12
DTSTART;TZID=America/Toronto;VALUE=DATE-TIME:20201022T170000
DTEND;TZID=America/Toronto;VALUE=DATE-TIME:20201022T180000
DTSTAMP;VALUE=DATE-TIME:20260423T075432Z
UID:9b8eddb07c604e54a758f9a71fd80f90@project_zeoclients
CREATED;VALUE=DATE-TIME:20210321T215448Z
DESCRIPTION:The Colloquial Colloquium — dedicated to help students throu
 gh open discussions\, feedback\, troubleshooting\, and community building.
LAST-MODIFIED;VALUE=DATE-TIME:20210420T184407Z
LOCATION:Online - MS Teams
URL:https://www.cirmmt.org/en/events/student-colloquia/colloquial-colloqui
 a/coco-12
END:VEVENT
BEGIN:VTIMEZONE
TZID:America/Toronto
X-LIC-LOCATION:America/Toronto
BEGIN:DAYLIGHT
DTSTART;VALUE=DATE-TIME:20200308T030000
TZNAME:EDT
TZOFFSETFROM:-0500
TZOFFSETTO:-0400
END:DAYLIGHT
END:VTIMEZONE
END:VCALENDAR
