BEGIN:VCALENDAR
VERSION:2.0
PRODID:-//Plone.org//NONSGML plone.app.event//EN
X-WR-TIMEZONE:America/Toronto
BEGIN:VEVENT
SUMMARY:CIRMMT Colloquial Colloquium (CoCo)
DTSTART;TZID=America/Toronto;VALUE=DATE-TIME:20241031T173000
DTEND;TZID=America/Toronto;VALUE=DATE-TIME:20241031T200000
DTSTAMP;VALUE=DATE-TIME:20260419T134639Z
UID:9468f6aca5d541089b0b882b8d2148a6@project_zeoclients
CONTACT:CIRMMT Student Representatives\, miranda.jackson@mail.mcgill.ca
CREATED;VALUE=DATE-TIME:20231023T161455Z
DESCRIPTION:The Colloquial Colloquium (CoCo) is dedicated to our student m
 embers and fosters open discussions\, feedback\, troubleshooting\, and com
 munity building.
LAST-MODIFIED;VALUE=DATE-TIME:20241017T155801Z
LOCATION:A-832\, 8th floor\, Elizabeth Wirth Music Building\, 527 Sherbroo
 ke O.
URL:https://www.cirmmt.org/en/events/student-colloquia/colloquial-colloqui
 a/coco-31-oct-24
END:VEVENT
BEGIN:VTIMEZONE
TZID:America/Toronto
X-LIC-LOCATION:America/Toronto
BEGIN:DAYLIGHT
DTSTART;VALUE=DATE-TIME:20240310T030000
TZNAME:EDT
TZOFFSETFROM:-0500
TZOFFSETTO:-0400
END:DAYLIGHT
END:VTIMEZONE
END:VCALENDAR
