BEGIN:VCALENDAR
VERSION:2.0
PRODID:-//Plone.org//NONSGML plone.app.event//EN
X-WR-TIMEZONE:America/Toronto
BEGIN:VEVENT
SUMMARY:RA1 General Meeting 2026
DTSTART;TZID=America/Toronto;VALUE=DATE-TIME:20260108T170000
DTEND;TZID=America/Toronto;VALUE=DATE-TIME:20260108T180000
DTSTAMP;VALUE=DATE-TIME:20260421T083830Z
UID:d329f5a4681f463da34c9cb4aba92da4@project_zeoclients
CONTACT:info [AT] cirmmt (DOT] org
CREATED;VALUE=DATE-TIME:20260105T183901Z
DESCRIPTION:General meeting for CIRMMT's Research Axis 1 (Instruments\, de
 vices & systems)
LAST-MODIFIED;VALUE=DATE-TIME:20260105T185138Z
LOCATION:Online via Zoom (link below)
URL:https://www.cirmmt.org/en/events/workshops/meetings/08-01-2026-ra1-gm
END:VEVENT
BEGIN:VTIMEZONE
TZID:America/Toronto
X-LIC-LOCATION:America/Toronto
BEGIN:STANDARD
DTSTART;VALUE=DATE-TIME:20251102T010000
TZNAME:EST
TZOFFSETFROM:-0400
TZOFFSETTO:-0500
END:STANDARD
END:VTIMEZONE
END:VCALENDAR
