BEGIN:VCALENDAR
VERSION:2.0
PRODID:-//Plone.org//NONSGML plone.app.event//EN
X-WR-TIMEZONE:America/Toronto
BEGIN:VEVENT
SUMMARY:Research Axis 2 General Meeting 2025
DTSTART;TZID=America/Toronto;VALUE=DATE-TIME:20250318T160000
DTEND;TZID=America/Toronto;VALUE=DATE-TIME:20250318T164500
DTSTAMP;VALUE=DATE-TIME:20260421T111537Z
UID:71d3d4ff3018461daa4c31799bd8b451@project_zeoclients
CONTACT:info[AT]cirmmt[DOT]org
CREATED;VALUE=DATE-TIME:20250217T152542Z
DESCRIPTION:All CIRMMT researchers and student members interested in RA2 a
 ctivities (Music Information Research) are welcome to attend\, as are pros
 pective student members who'd like to get involved in 2025–2026.
LAST-MODIFIED;VALUE=DATE-TIME:20250313T160721Z
LOCATION:A832 (8 floor)\, Elizabeth Wirth Music Building\, 527 Sherbrooke 
 O
URL:https://www.cirmmt.org/en/events/workshops/meetings/18-mar-2025-ra2-gm
END:VEVENT
BEGIN:VTIMEZONE
TZID:America/Toronto
X-LIC-LOCATION:America/Toronto
BEGIN:DAYLIGHT
DTSTART;VALUE=DATE-TIME:20250309T030000
TZNAME:EDT
TZOFFSETFROM:-0500
TZOFFSETTO:-0400
END:DAYLIGHT
END:VTIMEZONE
END:VCALENDAR
