BEGIN:VCALENDAR
VERSION:2.0
PRODID:-//Plone.org//NONSGML plone.app.event//EN
X-WR-TIMEZONE:America/Toronto
BEGIN:VEVENT
SUMMARY:RA2 General Meeting 2026
DTSTART;TZID=America/Toronto;VALUE=DATE-TIME:20260209T113000
DTEND;TZID=America/Toronto;VALUE=DATE-TIME:20260209T130000
DTSTAMP;VALUE=DATE-TIME:20260421T094439Z
UID:0433023ef6034c4bbbd2dd28cd1f2670@project_zeoclients
CONTACT:info [AT] cirmmt (DOT] org
CREATED;VALUE=DATE-TIME:20260204T153914Z
DESCRIPTION:General meeting for CIRMMT's Research Axis 2 (Music informatio
 n research)
LAST-MODIFIED;VALUE=DATE-TIME:20260204T161113Z
LOCATION:A832 (8 floor)\, Elizabeth Wirth Music Building\, 527 Sherbrooke 
 O
URL:https://www.cirmmt.org/en/events/workshops/meetings/9-feb-2026-ra2-gm
END:VEVENT
BEGIN:VTIMEZONE
TZID:America/Toronto
X-LIC-LOCATION:America/Toronto
BEGIN:STANDARD
DTSTART;VALUE=DATE-TIME:20251102T010000
TZNAME:EST
TZOFFSETFROM:-0400
TZOFFSETTO:-0500
END:STANDARD
END:VTIMEZONE
END:VCALENDAR
