BEGIN:VCALENDAR
VERSION:2.0
PRODID:-//Plone.org//NONSGML plone.app.event//EN
X-WR-TIMEZONE:America/Toronto
BEGIN:VEVENT
SUMMARY:CIRMMT/Sixtrum Workshop on Relationship Between Music and Image/At
 elier CIRMMT/Sixtrum sur la relation entre musique et image animée
DTSTART;TZID=America/Montreal;VALUE=DATE-TIME:20100204T150000
DTEND;TZID=America/Montreal;VALUE=DATE-TIME:20100204T180000
DTSTAMP;VALUE=DATE-TIME:20260422T032954Z
UID:134ed750b40fb62375201dc288e35458@project_zeoclients
CREATED;VALUE=DATE-TIME:20220210T004216Z
DESCRIPTION:This workshop is a joint workshop organized by Axis 6 and Sixt
 rum. It will take place on February 4\, 2010 at 3pm at the Université de 
 Montréal (Faculty of Music\, 200\, avenue Vincent-d'Indy\, salle B-187). 
 This workshop is free and open to all. 
LAST-MODIFIED;VALUE=DATE-TIME:20220211T185058Z
LOCATION:Université de Montréal\, Faculty of Music\, 200\, avenue Vincen
 t-d'Indy\, salle B-187
URL:https://www.cirmmt.org/en/events/workshops/meetings/CIRMMT-Sixtrum-wor
 kshop
END:VEVENT
BEGIN:VTIMEZONE
TZID:America/Montreal
X-LIC-LOCATION:America/Montreal
BEGIN:STANDARD
DTSTART;VALUE=DATE-TIME:20091101T010000
TZNAME:EST
TZOFFSETFROM:-0400
TZOFFSETTO:-0500
END:STANDARD
END:VTIMEZONE
END:VCALENDAR
