BEGIN:VCALENDAR
VERSION:2.0
PRODID:-//Plone.org//NONSGML plone.app.event//EN
X-WR-TIMEZONE:America/Toronto
BEGIN:VEVENT
SUMMARY:Workshop on Audio Signal Processing Software: Future Needs and Dir
 ections
DTSTART;TZID=America/Montreal;VALUE=DATE-TIME:20100917T140000
DTEND;TZID=America/Montreal;VALUE=DATE-TIME:20100917T170000
DTSTAMP;VALUE=DATE-TIME:20260422T020526Z
UID:82e032223e1276509d199f9cc8def91a@project_zeoclients
CREATED;VALUE=DATE-TIME:20220210T004225Z
DESCRIPTION:This workshop is organized by CIRMMT Research Axis 1 (Sound Mo
 deling\, Acoustics and Signal Processing). It will take place on September
  17\, 2010\, in A832 (New Music Building). This workshop is free and open 
 to all. Registration is required. \n\n\n
LAST-MODIFIED;VALUE=DATE-TIME:20220211T185237Z
LOCATION:A832\, New Music Building\, 527 Sherbrooke St. West. Enter via 55
 5 Sherbrooke St. West. 
URL:https://www.cirmmt.org/en/events/workshops/meetings/audio-signal
END:VEVENT
BEGIN:VTIMEZONE
TZID:America/Montreal
X-LIC-LOCATION:America/Montreal
BEGIN:DAYLIGHT
DTSTART;VALUE=DATE-TIME:20100314T030000
TZNAME:EDT
TZOFFSETFROM:-0500
TZOFFSETTO:-0400
END:DAYLIGHT
END:VTIMEZONE
END:VCALENDAR
