BEGIN:VCALENDAR
VERSION:2.0
PRODID:-//Plone.org//NONSGML plone.app.event//EN
X-WR-TIMEZONE:America/Toronto
BEGIN:VEVENT
SUMMARY:Workshop on auditory illusion
DTSTART;TZID=America/Montreal;VALUE=DATE-TIME:20110316T120000
DTEND;TZID=America/Montreal;VALUE=DATE-TIME:20110316T180000
DTSTAMP;VALUE=DATE-TIME:20260422T003107Z
UID:25a387c079cc7de363d7fbc935ebe641@project_zeoclients
CREATED;VALUE=DATE-TIME:20220210T004234Z
DESCRIPTION:This workshop is co-organized by CIRMMT Research Axis 4 (Multi
 modal Immersive Systems) and Research Axis 5 (Music perception and cogniti
 on).  It will take place on March 16\, 2011\, from 11:00am-5:00pm in A832 
 (New Music Building)\, the day before the CIRMMT Distinguished Lecture to 
 be given by Jean-Claude Risset.  Jean-Claude Risset will also give a live@
 CIRMMT Distinguished Artist concert on March 18.  This workshop is free an
 d open to all.  Registration is required. 
LAST-MODIFIED;VALUE=DATE-TIME:20220211T185238Z
LOCATION:A832\, New Music Building\, 527 Sherbrooke St. West. 
URL:https://www.cirmmt.org/en/events/workshops/meetings/auditory-illusion
END:VEVENT
BEGIN:VTIMEZONE
TZID:America/Montreal
X-LIC-LOCATION:America/Montreal
BEGIN:DAYLIGHT
DTSTART;VALUE=DATE-TIME:20110313T030000
TZNAME:EDT
TZOFFSETFROM:-0500
TZOFFSETTO:-0400
END:DAYLIGHT
END:VTIMEZONE
END:VCALENDAR
