BEGIN:VCALENDAR
VERSION:2.0
PRODID:-//Plone.org//NONSGML plone.app.event//EN
X-WR-TIMEZONE:America/Toronto
BEGIN:VEVENT
SUMMARY:Music Information Research (RA2) Axis Meeting
DTSTART;TZID=America/Montreal;VALUE=DATE-TIME:20150116T100000
DTEND;TZID=America/Montreal;VALUE=DATE-TIME:20150116T113000
DTSTAMP;VALUE=DATE-TIME:20260421T205702Z
UID:1461b83e70112f444601b51d53373dd5@project_zeoclients
CREATED;VALUE=DATE-TIME:20210321T215516Z
DESCRIPTION:Research axis 2 will hold its winter general meeting on Friday
 \, January 16th\, from 10:00-11:30am.  
LAST-MODIFIED;VALUE=DATE-TIME:20210321T215517Z
LOCATION:A-832\, New Music Building\, 527 Sherbrooke St West
URL:https://www.cirmmt.org/en/events/workshops/meetings/axis2-150216
END:VEVENT
BEGIN:VTIMEZONE
TZID:America/Montreal
X-LIC-LOCATION:America/Montreal
BEGIN:STANDARD
DTSTART;VALUE=DATE-TIME:20141102T010000
TZNAME:EST
TZOFFSETFROM:-0400
TZOFFSETTO:-0500
END:STANDARD
END:VTIMEZONE
END:VCALENDAR
