BEGIN:VCALENDAR
VERSION:2.0
PRODID:-//Plone.org//NONSGML plone.app.event//EN
X-WR-TIMEZONE:America/Toronto
BEGIN:VEVENT
SUMMARY:Cognition\, Perception and Movement (RA3) Axis Meeting
DTSTART;TZID=America/Montreal;VALUE=DATE-TIME:20150520T133000
DTEND;TZID=America/Montreal;VALUE=DATE-TIME:20150520T143000
DTSTAMP;VALUE=DATE-TIME:20260421T192117Z
UID:1a74e66c3fc393e34da267ed15470b9b@project_zeoclients
CREATED;VALUE=DATE-TIME:20210321T215517Z
DESCRIPTION:Research axis 3 will hold an axis meeting on Wednesday\, May 2
 0th\, from 13:30-14:30 
LAST-MODIFIED;VALUE=DATE-TIME:20210321T215517Z
LOCATION:A-807\, New Music Building\, 527 Sherbrooke St West
URL:https://www.cirmmt.org/en/events/workshops/meetings/axis3-may202015
END:VEVENT
BEGIN:VTIMEZONE
TZID:America/Montreal
X-LIC-LOCATION:America/Montreal
BEGIN:DAYLIGHT
DTSTART;VALUE=DATE-TIME:20150308T030000
TZNAME:EDT
TZOFFSETFROM:-0500
TZOFFSETTO:-0400
END:DAYLIGHT
END:VTIMEZONE
END:VCALENDAR
