BEGIN:VCALENDAR
VERSION:2.0
PRODID:-//Plone.org//NONSGML plone.app.event//EN
X-WR-TIMEZONE:America/Toronto
BEGIN:VEVENT
SUMMARY:Workshop on high pressure impact on the cardiopulmonary system
DTSTART;TZID=America/Montreal;VALUE=DATE-TIME:20110519T160000
DTEND;TZID=America/Montreal;VALUE=DATE-TIME:20110519T180000
DTSTAMP;VALUE=DATE-TIME:20260422T003454Z
UID:e4fc5ff230ae99dc4e860f9704d383e8@project_zeoclients
CREATED;VALUE=DATE-TIME:20220210T004220Z
DESCRIPTION:The Centre for Interdisciplinary Research in Music Media and T
 echnology (CIRMMT) is pleased to announce an upcoming research meeting on
  High pressure impact on the cardiopulmonary system. This workshop is org
 anized by CIRMMT Research Axis 2 (Musical gestures\, devices and motion ca
 pture).   It will take place on May 19\, 2011\, from 3:00-5:00pm in A512 
 (Marvin Duchow Library\, New Music Building).
LAST-MODIFIED;VALUE=DATE-TIME:20220211T185059Z
LOCATION:A512\, Marvin Duchow library\, New Music Building\, 527 Sherbrook
 e St. West.
URL:https://www.cirmmt.org/en/events/workshops/meetings/cardiopulmonary
END:VEVENT
BEGIN:VTIMEZONE
TZID:America/Montreal
X-LIC-LOCATION:America/Montreal
BEGIN:DAYLIGHT
DTSTART;VALUE=DATE-TIME:20110313T030000
TZNAME:EDT
TZOFFSETFROM:-0500
TZOFFSETTO:-0400
END:DAYLIGHT
END:VTIMEZONE
END:VCALENDAR
