BEGIN:VCALENDAR
VERSION:2.0
PRODID:-//Plone.org//NONSGML plone.app.event//EN
X-WR-TIMEZONE:America/Toronto
BEGIN:VEVENT
SUMMARY:Instruments\, Devices\, and Systems (RA1) Axis Meeting
DTSTART;TZID=America/Montreal;VALUE=DATE-TIME:20150203T120000
DTEND;TZID=America/Montreal;VALUE=DATE-TIME:20150203T130000
DTSTAMP;VALUE=DATE-TIME:20260421T210058Z
UID:213631fa95713065098d29cf9fd8c147@project_zeoclients
CREATED;VALUE=DATE-TIME:20210321T215519Z
DESCRIPTION:Research axis 1 will hold its winter general meeting on Tuesda
 y\, February 3rd\, from 12:00-13:00 
LAST-MODIFIED;VALUE=DATE-TIME:20210321T215519Z
LOCATION:A-807\, New Music Building\, 527 Sherbrooke St West
URL:https://www.cirmmt.org/en/events/workshops/meetings/copy_of_axis4-feb1
 02015
END:VEVENT
BEGIN:VTIMEZONE
TZID:America/Montreal
X-LIC-LOCATION:America/Montreal
BEGIN:STANDARD
DTSTART;VALUE=DATE-TIME:20141102T010000
TZNAME:EST
TZOFFSETFROM:-0400
TZOFFSETTO:-0500
END:STANDARD
END:VTIMEZONE
END:VCALENDAR
