BEGIN:VCALENDAR
VERSION:2.0
PRODID:-//Plone.org//NONSGML plone.app.event//EN
X-WR-TIMEZONE:America/Toronto
BEGIN:VEVENT
SUMMARY:Workshop on introducing CRIC: Centre de Recherche sur l'Interprét
 ation au Clavecin
DTSTART;TZID=America/Montreal;VALUE=DATE-TIME:20120614T100000
DTEND;TZID=America/Montreal;VALUE=DATE-TIME:20120614T150000
DTSTAMP;VALUE=DATE-TIME:20260421T232050Z
UID:b5fc475de4f09c3ab02be7aa58736930@project_zeoclients
CREATED;VALUE=DATE-TIME:20220210T004228Z
DESCRIPTION:This workshop is organized by CIRMMT Research Axis 3 (Musical 
 information retrieval\, archiving and analysis). It will take place on Jun
 e 14th\, in A832 (New Music Building). This workshop is free and open to a
 ll. Registration is required. \n\n\n
LAST-MODIFIED;VALUE=DATE-TIME:20220211T185237Z
LOCATION:A832\, New Music Building\, 527 Sherbrooke St. West.
URL:https://www.cirmmt.org/en/events/workshops/meetings/cric
END:VEVENT
BEGIN:VTIMEZONE
TZID:America/Montreal
X-LIC-LOCATION:America/Montreal
BEGIN:DAYLIGHT
DTSTART;VALUE=DATE-TIME:20120311T030000
TZNAME:EDT
TZOFFSETFROM:-0500
TZOFFSETTO:-0400
END:DAYLIGHT
END:VTIMEZONE
END:VCALENDAR
