BEGIN:VCALENDAR
VERSION:2.0
PRODID:-//Plone.org//NONSGML plone.app.event//EN
X-WR-TIMEZONE:America/Toronto
BEGIN:VEVENT
SUMMARY:Workshop on applications of robotics in music performance and anal
 ysis
DTSTART;TZID=America/Montreal;VALUE=DATE-TIME:20130913T133000
DTEND;TZID=America/Montreal;VALUE=DATE-TIME:20130913T173000
DTSTAMP;VALUE=DATE-TIME:20260421T215417Z
UID:3b042a3f79726b6abbefced15b1e8ac7@project_zeoclients
CREATED;VALUE=DATE-TIME:20220210T004211Z
DESCRIPTION:This workshop is co-organized by CIRMMT Research Axis 1 (Sound
  modeling\, acoustics and signal processing) and Research Axis 2 (Musical 
 gestures\, devices and motion capture). It will take place on September 13
 th\, in A832 (New Music Building). This workshop is free and open to all. 
 Registration is required. \n\n
LAST-MODIFIED;VALUE=DATE-TIME:20220211T185058Z
LOCATION:A832\, New Music Building\, 527 Sherbrooke St. West.
URL:https://www.cirmmt.org/en/events/workshops/meetings/dannenberg-worksho
 p
END:VEVENT
BEGIN:VTIMEZONE
TZID:America/Montreal
X-LIC-LOCATION:America/Montreal
BEGIN:DAYLIGHT
DTSTART;VALUE=DATE-TIME:20130310T030000
TZNAME:EDT
TZOFFSETFROM:-0500
TZOFFSETTO:-0400
END:DAYLIGHT
END:VTIMEZONE
END:VCALENDAR
