BEGIN:VCALENDAR
VERSION:2.0
PRODID:-//Plone.org//NONSGML plone.app.event//EN
X-WR-TIMEZONE:America/Toronto
BEGIN:VEVENT
SUMMARY:Workshop on Acousmatic Diffusion
DTSTART;TZID=America/Montreal;VALUE=DATE-TIME:20091028T150000
DTEND;TZID=America/Montreal;VALUE=DATE-TIME:20091028T170000
DTSTAMP;VALUE=DATE-TIME:20260422T032530Z
UID:9ae7e3deec672177218839cc378cfc29@project_zeoclients
CREATED;VALUE=DATE-TIME:20220210T004225Z
DESCRIPTION:This workshop is organized by CIRMMT Research Axis 6 (expanded
  musical practice).  It will take place on October 28th\, 2009 at McGill U
 niversity (MMR\, level -2\, New Music Building\, 527 Sherbrooke St. West).
   Registration is free.
LAST-MODIFIED;VALUE=DATE-TIME:20220211T185237Z
LOCATION:MMR\, New Music Building\, McGill University (enter via 555 Sherb
 rooke St. West)
URL:https://www.cirmmt.org/en/events/workshops/meetings/diffusion
END:VEVENT
BEGIN:VTIMEZONE
TZID:America/Montreal
X-LIC-LOCATION:America/Montreal
BEGIN:DAYLIGHT
DTSTART;VALUE=DATE-TIME:20090308T030000
TZNAME:EDT
TZOFFSETFROM:-0500
TZOFFSETTO:-0400
END:DAYLIGHT
END:VTIMEZONE
END:VCALENDAR
