BEGIN:VCALENDAR
VERSION:2.0
PRODID:-//Plone.org//NONSGML plone.app.event//EN
X-WR-TIMEZONE:America/Toronto
BEGIN:VEVENT
SUMMARY:Interactivity in music composition and performance: EFFICACe inter
 national workshop
DTSTART;TZID=America/Montreal;VALUE=DATE-TIME:20150505T103000
DTEND;TZID=America/Montreal;VALUE=DATE-TIME:20150505T180000
DTSTAMP;VALUE=DATE-TIME:20260421T192100Z
UID:508f178ec1b87b9f5140fdee11149ca3@project_zeoclients
CREATED;VALUE=DATE-TIME:20220210T004206Z
DESCRIPTION:This workshop is organized by CIRMMT Research Axis 4 (Expanded
  musical practice) and in co-production with the Institut de Recherche et 
 Coordination Acoustique/Musique (IRCAM). It will take place on May 5th\, 2
 015\, in A832-33 (8th floor\, New Music Building). This workshop is free a
 nd open to all. Registration is required. \n\n
LAST-MODIFIED;VALUE=DATE-TIME:20220211T185057Z
LOCATION:A832-33\, New Music Building\, 527 Sherbrooke St. West.
URL:https://www.cirmmt.org/en/events/workshops/meetings/efficace_workshop_
 2015
END:VEVENT
BEGIN:VTIMEZONE
TZID:America/Montreal
X-LIC-LOCATION:America/Montreal
BEGIN:DAYLIGHT
DTSTART;VALUE=DATE-TIME:20150308T030000
TZNAME:EDT
TZOFFSETFROM:-0500
TZOFFSETTO:-0400
END:DAYLIGHT
END:VTIMEZONE
END:VCALENDAR
