BEGIN:VCALENDAR
VERSION:2.0
PRODID:-//Plone.org//NONSGML plone.app.event//EN
X-WR-TIMEZONE:America/Toronto
BEGIN:VEVENT
SUMMARY:Workshop on searching symbolic musical data for repeated patterns:
  The ELVIS project - Day 1
DTSTART;TZID=America/Montreal;VALUE=DATE-TIME:20130510T150000
DTEND;TZID=America/Montreal;VALUE=DATE-TIME:20130510T180000
DTSTAMP;VALUE=DATE-TIME:20260421T215111Z
UID:fb38ef2b78d870cb3a4bf2fbfe600b4f@project_zeoclients
CREATED;VALUE=DATE-TIME:20220210T004221Z
DESCRIPTION:This two day workshop is co-organized by CIRMMT Research Axis 
 3 (Musical information retrieval\, archiving and analysis) and ELVIS (Elec
 tronic Locator of Vertical Interval Successions). It will take place on Ma
 y 10th in A510\, and on the 11th in A832/833 (New Music Building). This wo
 rkshop is free and open to all. Registration is required. 
LAST-MODIFIED;VALUE=DATE-TIME:20220211T185059Z
LOCATION:A510 (Library Seminar Room)\, New Music Building\, 527 Sherbrooke
  St. West.
URL:https://www.cirmmt.org/en/events/workshops/meetings/elvis
END:VEVENT
BEGIN:VTIMEZONE
TZID:America/Montreal
X-LIC-LOCATION:America/Montreal
BEGIN:DAYLIGHT
DTSTART;VALUE=DATE-TIME:20130310T030000
TZNAME:EDT
TZOFFSETFROM:-0500
TZOFFSETTO:-0400
END:DAYLIGHT
END:VTIMEZONE
END:VCALENDAR
