BEGIN:VCALENDAR
VERSION:2.0
PRODID:-//Plone.org//NONSGML plone.app.event//EN
X-WR-TIMEZONE:America/Toronto
BEGIN:VEVENT
SUMMARY:Symposium on Empirical Methods for Music Theorists
DTSTART;TZID=America/Montreal;VALUE=DATE-TIME:20091101T140000
DTEND;TZID=America/Montreal;VALUE=DATE-TIME:20091102T120000
DTSTAMP;VALUE=DATE-TIME:20260422T032917Z
UID:2fe4f23b054169c196f87c12bcff22db@project_zeoclients
CREATED;VALUE=DATE-TIME:20220210T004229Z
DESCRIPTION:This symposium is cosponsored by the Society for Music Theory 
 and CIRMMT Research Axis 5. It will take place on November 1st and 2nd.
LAST-MODIFIED;VALUE=DATE-TIME:20220211T205005Z
LOCATION:A832\, New Music Building\, 527 Sherbrooke St. West.  Enter via 5
 55 Sherbrooke St. West.
URL:https://www.cirmmt.org/en/events/workshops/meetings/empirical
END:VEVENT
BEGIN:VTIMEZONE
TZID:America/Montreal
X-LIC-LOCATION:America/Montreal
BEGIN:STANDARD
DTSTART;VALUE=DATE-TIME:20091101T010000
TZNAME:EST
TZOFFSETFROM:-0400
TZOFFSETTO:-0500
END:STANDARD
END:VTIMEZONE
END:VCALENDAR
