BEGIN:VCALENDAR
VERSION:2.0
PRODID:-//Plone.org//NONSGML plone.app.event//EN
X-WR-TIMEZONE:America/Toronto
BEGIN:VEVENT
SUMMARY:Workshop on Writing Externals in Max and Pd
DTSTART;TZID=America/Montreal;VALUE=DATE-TIME:20100512T150000
DTEND;TZID=America/Montreal;VALUE=DATE-TIME:20100512T180000
DTSTAMP;VALUE=DATE-TIME:20260422T014128Z
UID:d143e6c9ab1ac71803e90205473f8c4e@project_zeoclients
CREATED;VALUE=DATE-TIME:20220210T004228Z
DESCRIPTION:This workshop is co-organized by CIRMMT Research Axis 1 (Sound
  modeling\, acoustics and signal processing) and Research Axis 2 (Musical 
 gestures\, devices and motion capture).\n\nIt will take place on May 12\, 
 2010 in A832 (New Music Building). This workshop is free and open to all. 
 Registration is required. \n\n\n
LAST-MODIFIED;VALUE=DATE-TIME:20220211T204447Z
LOCATION:A832\, New Music Building\, 527 Sherbrooke St. West. Enter via 55
 5 Sherbrooke St. West. 
URL:https://www.cirmmt.org/en/events/workshops/meetings/externals-max-pd
END:VEVENT
BEGIN:VTIMEZONE
TZID:America/Montreal
X-LIC-LOCATION:America/Montreal
BEGIN:DAYLIGHT
DTSTART;VALUE=DATE-TIME:20100314T030000
TZNAME:EDT
TZOFFSETFROM:-0500
TZOFFSETTO:-0400
END:DAYLIGHT
END:VTIMEZONE
END:VCALENDAR
