BEGIN:VCALENDAR
VERSION:2.0
PRODID:-//Plone.org//NONSGML plone.app.event//EN
X-WR-TIMEZONE:America/Toronto
BEGIN:VEVENT
SUMMARY:Workshop on composite guitars vs wooden guitars: Two different vie
 ws on design
DTSTART;TZID=America/Montreal;VALUE=DATE-TIME:20110328T140000
DTEND;TZID=America/Montreal;VALUE=DATE-TIME:20110328T183000
DTSTAMP;VALUE=DATE-TIME:20260422T003251Z
UID:8ddf9a8f12bae8335a4376eb11155af6@project_zeoclients
CREATED;VALUE=DATE-TIME:20220210T004232Z
DESCRIPTION:This workshop is organized by CIRMMT Research Axis 1 (Sound Mo
 deling\, Acoustics and Signal Processing). It will take place on March 28\
 , 2011 in A832 (New Music Building). This workshop is free and open to all
 . Registration is required. \n\n\n
LAST-MODIFIED;VALUE=DATE-TIME:20220211T185238Z
LOCATION:A832\, New Music Building\, 527 Sherbrooke St. West.
URL:https://www.cirmmt.org/en/events/workshops/meetings/guitars
END:VEVENT
BEGIN:VTIMEZONE
TZID:America/Montreal
X-LIC-LOCATION:America/Montreal
BEGIN:DAYLIGHT
DTSTART;VALUE=DATE-TIME:20110313T030000
TZNAME:EDT
TZOFFSETFROM:-0500
TZOFFSETTO:-0400
END:DAYLIGHT
END:VTIMEZONE
END:VCALENDAR
