BEGIN:VCALENDAR
VERSION:2.0
PRODID:-//Plone.org//NONSGML plone.app.event//EN
X-WR-TIMEZONE:America/Toronto
BEGIN:VEVENT
SUMMARY:Enveloping the listener: A workshop on immersive audio
DTSTART;TZID=America/Montreal;VALUE=DATE-TIME:20140328T100000
DTEND;TZID=America/Montreal;VALUE=DATE-TIME:20140328T143000
DTSTAMP;VALUE=DATE-TIME:20260421T204151Z
UID:9a22c58e51e215a620f23593436d71da@project_zeoclients
CREATED;VALUE=DATE-TIME:20220210T004210Z
DESCRIPTION:This workshop is organized by CIRMMT Research Axis 4 (Multimod
 al immersive systems). It will take place on Friday\, March 28\, 2014\, in
  A832 (New Music Building). This workshop is free and open to all. Registr
 ation is now full.
LAST-MODIFIED;VALUE=DATE-TIME:20220211T185057Z
LOCATION:A832\, New Music Building\, 527 Sherbrooke St. West.
URL:https://www.cirmmt.org/en/events/workshops/meetings/immersive_audio
END:VEVENT
BEGIN:VTIMEZONE
TZID:America/Montreal
X-LIC-LOCATION:America/Montreal
BEGIN:DAYLIGHT
DTSTART;VALUE=DATE-TIME:20140309T030000
TZNAME:EDT
TZOFFSETFROM:-0500
TZOFFSETTO:-0400
END:DAYLIGHT
END:VTIMEZONE
END:VCALENDAR
