BEGIN:VCALENDAR
VERSION:2.0
PRODID:-//Plone.org//NONSGML plone.app.event//EN
X-WR-TIMEZONE:America/Toronto
BEGIN:VEVENT
SUMMARY:Live in-concert experiment using the CIRMMT Audience Response Syst
 em
DTSTART;TZID=America/Montreal;VALUE=DATE-TIME:20101109T180000
DTEND;TZID=America/Montreal;VALUE=DATE-TIME:20101109T203000
DTSTAMP;VALUE=DATE-TIME:20260422T014307Z
UID:cfb773399093e45b32086f391be89eaa@project_zeoclients
CREATED;VALUE=DATE-TIME:20220210T004222Z
DESCRIPTION:This live in-concert experiment is organized by CIRMMT Researc
 h Axis 5 (Music perception and cognition). It will take place on November 
 9\, 2010 at McGill University.\n\n\n
LAST-MODIFIED;VALUE=DATE-TIME:20220211T185236Z
LOCATION:Tanna Schulich Hall\, New Music Building\, 527 Sherbrooke St. W.
URL:https://www.cirmmt.org/en/events/workshops/meetings/in-concert-experim
 ent
END:VEVENT
BEGIN:VTIMEZONE
TZID:America/Montreal
X-LIC-LOCATION:America/Montreal
BEGIN:STANDARD
DTSTART;VALUE=DATE-TIME:20101107T010000
TZNAME:EST
TZOFFSETFROM:-0400
TZOFFSETTO:-0500
END:STANDARD
END:VTIMEZONE
END:VCALENDAR
