BEGIN:VCALENDAR
VERSION:2.0
PRODID:-//Plone.org//NONSGML plone.app.event//EN
X-WR-TIMEZONE:America/Toronto
BEGIN:VEVENT
SUMMARY:Real-time audio signal processing: introducing MATLAB Audio System
  Toolbox
DTSTART;TZID=America/Montreal;VALUE=DATE-TIME:20170330T170000
DTEND;TZID=America/Montreal;VALUE=DATE-TIME:20170330T190000
DTSTAMP;VALUE=DATE-TIME:20260421T175729Z
UID:28f3faaf90e027b7e0cb5dbd55a1a649@project_zeoclients
CREATED;VALUE=DATE-TIME:20220210T004208Z
DESCRIPTION:This Research Axis 1 CIRMMT workshop will be animated by Ric L
 osada\, software development manager leading the DSP & Audio products at M
 athWorks. Registration is required. 
LAST-MODIFIED;VALUE=DATE-TIME:20220211T185057Z
LOCATION:A832\, Elizabeth Wirth Music Building\, 527 Sherbrooke St W
URL:https://www.cirmmt.org/en/events/workshops/meetings/matlab
END:VEVENT
BEGIN:VTIMEZONE
TZID:America/Montreal
X-LIC-LOCATION:America/Montreal
BEGIN:DAYLIGHT
DTSTART;VALUE=DATE-TIME:20170312T030000
TZNAME:EDT
TZOFFSETFROM:-0500
TZOFFSETTO:-0400
END:DAYLIGHT
END:VTIMEZONE
END:VCALENDAR
