BEGIN:VCALENDAR
VERSION:2.0
PRODID:-//Plone.org//NONSGML plone.app.event//EN
X-WR-TIMEZONE:America/Toronto
BEGIN:VEVENT
SUMMARY:Workshop on measuring movement in music performance
DTSTART;TZID=America/Montreal;VALUE=DATE-TIME:20110902T100000
DTEND;TZID=America/Montreal;VALUE=DATE-TIME:20110902T150000
DTSTAMP;VALUE=DATE-TIME:20260422T003320Z
UID:421d6eeb994f07552f078612526cb435@project_zeoclients
CREATED;VALUE=DATE-TIME:20220210T004229Z
DESCRIPTION:The Centre for Interdisciplinary Research in Music Media and T
 echnology (CIRMMT) is pleased to announce an upcoming research meeting on
  measuring movement in music performance. This workshop is organized by C
 IRMMT Research Axis 2 (Musical gestures\, devices and motion capture).   
 It will take place on September 2nd\, 2011\, from 9:00am-2:00pm in A832.
LAST-MODIFIED;VALUE=DATE-TIME:20220211T185238Z
LOCATION:A832\, New Music Building\, 527 Sherbrooke St. West.
URL:https://www.cirmmt.org/en/events/workshops/meetings/measuring-movement
END:VEVENT
BEGIN:VTIMEZONE
TZID:America/Montreal
X-LIC-LOCATION:America/Montreal
BEGIN:DAYLIGHT
DTSTART;VALUE=DATE-TIME:20110313T030000
TZNAME:EDT
TZOFFSETFROM:-0500
TZOFFSETTO:-0400
END:DAYLIGHT
END:VTIMEZONE
END:VCALENDAR
