BEGIN:VCALENDAR
VERSION:2.0
PRODID:-//Plone.org//NONSGML plone.app.event//EN
X-WR-TIMEZONE:America/Toronto
BEGIN:VEVENT
SUMMARY:Workshop on motion capture of string quartet performances
DTSTART;TZID=America/Montreal;VALUE=DATE-TIME:20111012T150000
DTEND;TZID=America/Montreal;VALUE=DATE-TIME:20111012T180000
DTSTAMP;VALUE=DATE-TIME:20260422T003202Z
UID:8e5071cf8aee68745cf22292e58b850b@project_zeoclients
CREATED;VALUE=DATE-TIME:20220210T004220Z
DESCRIPTION:This workshop is organized by CIRMMT Research Axis 2 (Musical 
 gestures\, devices and motion capture).   It will take place on October 1
 2\, 2011\, from 2:00pm-5:00pm in Clara Lichtenstein Recital Hall (C-209).
LAST-MODIFIED;VALUE=DATE-TIME:20220211T185059Z
LOCATION:Clara Lichtenstein Recital Hall (C-209)\, Strathcona Music Buildi
 ng\, 555 Sherbrooke St. West\, Montreal
URL:https://www.cirmmt.org/en/events/workshops/meetings/mocap-quartet
END:VEVENT
BEGIN:VTIMEZONE
TZID:America/Montreal
X-LIC-LOCATION:America/Montreal
BEGIN:DAYLIGHT
DTSTART;VALUE=DATE-TIME:20110313T030000
TZNAME:EDT
TZOFFSETFROM:-0500
TZOFFSETTO:-0400
END:DAYLIGHT
END:VTIMEZONE
END:VCALENDAR
