BEGIN:VCALENDAR
VERSION:2.0
PRODID:-//Plone.org//NONSGML plone.app.event//EN
X-WR-TIMEZONE:America/Toronto
BEGIN:VEVENT
SUMMARY:Workshop on Music\, Motion and Emotion
DTSTART;TZID=America/Montreal;VALUE=DATE-TIME:20090415T150000
DTEND;TZID=America/Montreal;VALUE=DATE-TIME:20090415T180000
DTSTAMP;VALUE=DATE-TIME:20260422T030447Z
UID:8c937a8337aaeec24120aafa0484f780@project_zeoclients
CREATED;VALUE=DATE-TIME:20220210T004221Z
DESCRIPTION:This workshop is organized by CIRMMT Research Axes 2 (Musical 
 gestures\, devices and motion capture) and 5 (Music perception and cogniti
 on).  It will take place at BRAMS (Université de Montréal) on April 15 2
 009.  Registration is free.
LAST-MODIFIED;VALUE=DATE-TIME:20220211T185059Z
LOCATION:BRAMS\, 1430\, boul. du Mont-Royal (Outremont)\, 1st floor (suite
  0-120)
URL:https://www.cirmmt.org/en/events/workshops/meetings/motion
END:VEVENT
BEGIN:VTIMEZONE
TZID:America/Montreal
X-LIC-LOCATION:America/Montreal
BEGIN:DAYLIGHT
DTSTART;VALUE=DATE-TIME:20090308T030000
TZNAME:EDT
TZOFFSETFROM:-0500
TZOFFSETTO:-0400
END:DAYLIGHT
END:VTIMEZONE
END:VCALENDAR
